BEGIN:VCALENDAR
VERSION:2.0
PRODID:-//Sonoita Vineyards - ECPv6.15.20//NONSGML v1.0//EN
CALSCALE:GREGORIAN
METHOD:PUBLISH
X-WR-CALNAME:Sonoita Vineyards
X-ORIGINAL-URL:https://www.sonoitavineyards.com
X-WR-CALDESC:Events for Sonoita Vineyards
REFRESH-INTERVAL;VALUE=DURATION:PT1H
X-Robots-Tag:noindex
X-PUBLISHED-TTL:PT1H
BEGIN:VTIMEZONE
TZID:America/Phoenix
BEGIN:STANDARD
TZOFFSETFROM:-0700
TZOFFSETTO:-0700
TZNAME:MST
DTSTART:20130101T000000
END:STANDARD
END:VTIMEZONE
BEGIN:VEVENT
DTSTART;TZID=America/Phoenix:20211113T100000
DTEND;TZID=America/Phoenix:20211113T170000
DTSTAMP:20260424T020833
CREATED:20211016T040751Z
LAST-MODIFIED:20211016T040751Z
UID:9043-1636797600-1636822800@www.sonoitavineyards.com
SUMMARY:Sonoita AVA New Release Festival 2021 
DESCRIPTION:ALL TICKETS ARE AVAIABLE AT THE DOOR ONLY NOW 🙂 \nTHE TICKETS ONLINE HAVE BEEN TURNED OFF YOU MUST PURCHASE AT THE DOOR 🙂 \n  \nSaturday\, November 13\, 2021  \n10am–5pm  \nThe 20th Annual celebration of the Sonoita AVA New Release Festival will take place on November 13th from 10:00 am – 5:00 pm. In conjunction with this Festival\, we will be celebrating “Arizona Wine Industry Founders Day and pay tribute to Dr. Gordon Dutt for his dedication towards the Arizona wine industry and his countless contributions to the community.” This was just passed as a State Proclamation by Governor Doug Ducey. No reservations required.\n \nAdmission of $45 at the door includes/ Admission of $40 online only stops 11/12/2021 at midnight: \n\n 12 wine tasting tickets\nSouvenir glass\n\n\n Also available:\n \n\nLunch from Las Vigas \nLive Music All Day!\nDiscussion with the winemakers present. \nVendors on-site for Holiday Shopping! \n\nTasting of new and current releases from: \n\n Sonoita Vineyards\nAZ Hops and Vines\nWilhelm Family Vineyards\nLightning Ridge Cellars\nThe Village of Elgin Winery\nThe Elgin Distillery\nAutumn Sage Vineyards\nStrive Vineyards\nTwisted Union Wine Company\nVino Stache \n\nThis is the third of three festivals at Sonoita Vineyards for 2021! \nIn 2022\, the 44th Annual Blessing of Sonoita Vineyards is Saturday\, April 9\, 2022\, HarvestFest is on Saturday\, July 30\, 2022\, and Sonoita New Release Festival on November 12\, 2022.      \n The Winery/Tasting Room is open daily from 10am-4pm except Closed Tuesdays and major holidays.  Private tours\, tastings\, luncheons or special events in our Vintage Room may be arranged. 
URL:https://www.sonoitavineyards.com/event/sonoita-ava-new-release-festival-2021/
CATEGORIES:Arizona Wine Growers Event (AWGA)
ATTACH;FMTTYPE=image/jpeg:https://www.sonoitavineyards.com/wp-content/uploads/2021/10/21NewRelease-back.jpg
END:VEVENT
BEGIN:VEVENT
DTSTART;TZID=America/Phoenix:20140412T110000
DTEND;TZID=America/Phoenix:20140412T170000
DTSTAMP:20260424T020833
CREATED:20140408T211503Z
LAST-MODIFIED:20140408T211503Z
UID:2422-1397300400-1397322000@www.sonoitavineyards.com
SUMMARY:Southeast Arizona Wine Grower's Festival
DESCRIPTION:Look for us at the Southeast Arizona Wine Growers Festival on April 12th & 13th!\n  \n  \n 
URL:https://www.sonoitavineyards.com/event/southeast-arizona-wine-growers-festival/
CATEGORIES:Arizona Wine Growers Event (AWGA),Away Event,Festival,Just For Fun
END:VEVENT
BEGIN:VEVENT
DTSTART;TZID=America/Phoenix:20140222T000000
DTEND;TZID=America/Phoenix:20140222T170000
DTSTAMP:20260424T020833
CREATED:20140205T200332Z
LAST-MODIFIED:20140205T200332Z
UID:2399-1393027200-1393088400@www.sonoitavineyards.com
SUMMARY:Off The Vine Festival 2014
DESCRIPTION:We’ll be there!  \nJoin the Arizona wine industry at the Historic Steam Pump Ranch\, in Oro Valley\, Arizona\, for the inaugural “Off the Vine” Arizona Wine Festival. Enjoy some of Arizona’s best wines and interact with the winemakers whose creations will amaze. The centerpiece of the venue is a historic 1800’s ranch house\, and docent tours will be available. The event will feature exclusive tastings from 15 of Arizona’s vineyards and wineries\, live local music\, great vendors\, and even better times.  Buy your tickets prior to the event to save $5\, and don’t miss your chance to taste and take home Arizona’s wines!\nPrice of admission includes a commemorative glass and 8 tasting tickets.
URL:https://www.sonoitavineyards.com/event/off-the-vine-2014/
CATEGORIES:Arizona Wine Growers Event (AWGA),Away Event
END:VEVENT
END:VCALENDAR