BEGIN:VCALENDAR
VERSION:2.0
PRODID:-//Sonoita Vineyards - ECPv6.15.20//NONSGML v1.0//EN
CALSCALE:GREGORIAN
METHOD:PUBLISH
X-ORIGINAL-URL:https://www.sonoitavineyards.com
X-WR-CALDESC:Events for Sonoita Vineyards
REFRESH-INTERVAL;VALUE=DURATION:PT1H
X-Robots-Tag:noindex
X-PUBLISHED-TTL:PT1H
BEGIN:VTIMEZONE
TZID:America/Phoenix
BEGIN:STANDARD
TZOFFSETFROM:-0700
TZOFFSETTO:-0700
TZNAME:MST
DTSTART:20170101T000000
END:STANDARD
END:VTIMEZONE
BEGIN:VEVENT
DTSTART;TZID=America/Phoenix:20250412T100000
DTEND;TZID=America/Phoenix:20250412T170000
DTSTAMP:20260420T002411
CREATED:20241121T204330Z
LAST-MODIFIED:20250401T155919Z
UID:11127-1744452000-1744477200@www.sonoitavineyards.com
SUMMARY:47th Annual Blessing of the Vines at Sonoita Vineyards
DESCRIPTION:Welcome to the 47th Annual Blessing of the Vines at Sonoita Vineyards! Join us for a day of fun\, wine\, and celebration at 290 Elgin Canelo Rd. Get ready to Bless the Vines with all Arizona Wine Lovers! Taste the latest releases from our local wineries\, enjoy live music\, and savor delicious food from our vendors. This in-person event is the perfect opportunity to discover new favorites and mingle with fellow wine enthusiasts. Don’t miss out on this exciting festival – mark your calendars and get ready to raise a glass with us! \nWineries in Attendance: \nSonoita Vineyards \nThe Elgin Distillery \nThe Elgin Winery \nLighting Ridge Cellars \nTwisted Union Wine Company \nWilhelm Family Vineyards \nStrive Vineyards \nFlying Kite Vineyards \n1764 Vineyards \nFood Trucks: \nLas Vigas \nBetter Birdie \nMusic by: \nDue Zaylie Windsor competing on this year’s American Idol she will not be available to sing this Blessing of Vines. Please tune in and Cheer on our local Arizona lady 🙂 \n\n\n\n\n\n\n47th Blessing of the Vines at Sonoita Vineyards Tickets\, Sat\, Apr 12\, 2025 at 10:00 AM | Eventbrite\n\n\n\n\nBuy Tickets on Eventbrite\n\nBuy Tickets
URL:https://www.sonoitavineyards.com/event/47th-annual-blessing-of-the-vines-at-sonoita-vineyards/
LOCATION:Sonoita Vineyards\, 290 Elgin Canelo RD\, Elgin\, AZ\, 85611-8001\, United States
CATEGORIES:Festival,Just For Fun,Lunch at the Winery
END:VEVENT
BEGIN:VEVENT
DTSTART;TZID=America/Phoenix:20231007T140000
DTEND;TZID=America/Phoenix:20231007T160000
DTSTAMP:20260420T002411
CREATED:20230817T213050Z
LAST-MODIFIED:20230817T213153Z
UID:10730-1696687200-1696694400@www.sonoitavineyards.com
SUMMARY:Charcuterie Spooky Themed
DESCRIPTION:October 7th \nStarting at 2pm \nCome learn to make a fun Spooky Themed Charcuterie with Bride + Brie. \n$90/person gets you: \n2 glasses of wine \n1 wooden charcuterie board to take home \nCome and have fun with Lisa of Bride + Brie and Sonoita Vineyards \nLive Music from 1-4pm
URL:https://www.sonoitavineyards.com/event/charcuterie-spooky-themed/
LOCATION:Sonoita Vineyards\, 290 Elgin Canelo RD\, Elgin\, AZ\, 85611-8001\, United States
CATEGORIES:Just For Fun,Lunch at the Winery
END:VEVENT
BEGIN:VEVENT
DTSTART;TZID=America/Phoenix:20230826T130000
DTEND;TZID=America/Phoenix:20230826T160000
DTSTAMP:20260420T002411
CREATED:20230809T213035Z
LAST-MODIFIED:20230809T213035Z
UID:10707-1693054800-1693065600@www.sonoitavineyards.com
SUMMARY:Live Music by Jeff Driscoll
DESCRIPTION:Live Music by Jeff Driscoll \nAugust 26th from 1-4pm \nEnjoy the day with wine\, music and a picnic lunch
URL:https://www.sonoitavineyards.com/event/live-music-by-jeff-driscoll/
LOCATION:AZ
CATEGORIES:Just For Fun,Lunch at the Winery
END:VEVENT
BEGIN:VEVENT
DTSTART;TZID=America/Phoenix:20200125T110000
DTEND;TZID=America/Phoenix:20200125T140000
DTSTAMP:20260420T002411
CREATED:20190904T151150Z
LAST-MODIFIED:20190904T151150Z
UID:8034-1579950000-1579960800@www.sonoitavineyards.com
SUMMARY:Winemaker's Luncheon
DESCRIPTION:Join us for some Southwest Flair with 4-H Pork!\nSaturday\, January 25\, 2020\n$85/person. 50 people only.\nA Five-course meal prepared by:\nChef Christian Bidegan  \nMEAL to be determined ASAP \n 
URL:https://www.sonoitavineyards.com/event/winemakers-luncheon/
LOCATION:AZ
CATEGORIES:Lunch at the Winery
ATTACH;FMTTYPE=image/jpeg:https://www.sonoitavineyards.com/wp-content/uploads/2019/09/19Winemakers-Luncheon_background.jpg
END:VEVENT
BEGIN:VEVENT
DTSTART;TZID=America/Phoenix:20190504T110000
DTEND;TZID=America/Phoenix:20190504T160000
DTSTAMP:20260420T002411
CREATED:20190416T015253Z
LAST-MODIFIED:20190416T015253Z
UID:7446-1556967600-1556985600@www.sonoitavineyards.com
SUMMARY:Cinco De Mayo 2019
DESCRIPTION:Join us for a two-hour\, 6-course Cinco de Mayo feast! Chef Aaron Stephens has created an incredible menu. There will be two tickets available\, one for 11am to 1pm\, and the other from 2pm to 4pm. Each meal is limited to 30 people! \nCheck out the amazing menu below: \n1st Course \n\nChili marinated chicken breast salad\, paired with Arizona Sunset wine\nCucumbers\, grape tomatoes\, red onions\, yellow bell peppers\, poppy seed dressing\n\n2nd Course \n\nAlbondigas (Mexican Meatball Soup)\, paired with 2016 Estate Mission wine\nBeef meatballs\, bell peppers\, onions\, green chilies\, roasted red peppers\, tomatoes\, cilantro\, and a  tomato-based broth.\n\n3rd Course \n\nMini Carnita Soft Taco\, paired with Baja Boo’z\nMarinated shredded pork\, cheese\, shredded cabbage\, chipotle salsa\n\n4th Course \n\nSpanish chili-rubbed lamb chop\, paired with 2014 Estate Cabernet Sauvignon\nSpicy honey glaze\, sliced almond garnish\n\n5th Course (Main Course) \n\nTender flank steak fajitas\, paired with 2013 Arizona Merlot\nRed\, yellow\, and green bell peppers\, onions\, cheese\, fresh salsa cilantro ranch sauce\, black bean corn medley\n\n6th Course (Dessert) \n\nCinnamon churro a la mode\, paired with Sonora Blanca\nCinnamon churro\, vanilla bean ice cream\, hot cinnamon sugar apples
URL:https://www.sonoitavineyards.com/event/cinco-de-mayo-2019/
LOCATION:AZ
CATEGORIES:Lunch at the Winery
ATTACH;FMTTYPE=image/jpeg:https://www.sonoitavineyards.com/wp-content/uploads/2019/04/Cinco-de-Mayo-2019-Frontpage.jpg
END:VEVENT
BEGIN:VEVENT
DTSTART;VALUE=DATE:20190316
DTEND;VALUE=DATE:20190317
DTSTAMP:20260420T002411
CREATED:20190124T044301Z
LAST-MODIFIED:20190124T044301Z
UID:7118-1552694400-1552780799@www.sonoitavineyards.com
SUMMARY:St. Patrick's Day Shenanigans 2019
DESCRIPTION:Join us for a celebration of the Irish spirit with wine tasting and food pairing\, with lunch catered by Happy Cookers Catering!\nIncludes the souvenir glass\, 4 food and wine pairings\, and lunch from Happy Cookers Catering.
URL:https://www.sonoitavineyards.com/event/st-patricks-day-shenanigans-2019/
LOCATION:AZ
CATEGORIES:Just For Fun,Lunch at the Winery
ATTACH;FMTTYPE=image/jpeg:https://www.sonoitavineyards.com/wp-content/uploads/2019/01/Shenanigans.jpg
END:VEVENT
BEGIN:VEVENT
DTSTART;TZID=America/Phoenix:20180210T100000
DTEND;TZID=America/Phoenix:20180210T160000
DTSTAMP:20260420T002411
CREATED:20180117T153740Z
LAST-MODIFIED:20180117T153740Z
UID:5947-1518256800-1518278400@www.sonoitavineyards.com
SUMMARY:Sweet and Savory 2018
DESCRIPTION:SOLD OUT!\n\nJoin us for a sweet and savory wine tasting and food pairing\, with lunch catered by Happy Cookers Catering!\nIncludes the souvenir glass\, 5 food and wine pairings\, and lunch from Happy Cookers Catering.
URL:https://www.sonoitavineyards.com/event/sweet-and-savory-2018/
LOCATION:AZ
CATEGORIES:Just For Fun,Lunch at the Winery
ATTACH;FMTTYPE=image/jpeg:https://www.sonoitavineyards.com/wp-content/uploads/2018/01/Valentines-Ticket-2018.jpg
END:VEVENT
END:VCALENDAR