BEGIN:VCALENDAR
VERSION:2.0
PRODID:-//Sonoita Vineyards - ECPv6.15.20//NONSGML v1.0//EN
CALSCALE:GREGORIAN
METHOD:PUBLISH
X-ORIGINAL-URL:https://www.sonoitavineyards.com
X-WR-CALDESC:Events for Sonoita Vineyards
REFRESH-INTERVAL;VALUE=DURATION:PT1H
X-Robots-Tag:noindex
X-PUBLISHED-TTL:PT1H
BEGIN:VTIMEZONE
TZID:America/Phoenix
BEGIN:STANDARD
TZOFFSETFROM:-0700
TZOFFSETTO:-0700
TZNAME:MST
DTSTART:20170101T000000
END:STANDARD
END:VTIMEZONE
BEGIN:VEVENT
DTSTART;TZID=America/Phoenix:20180728T100000
DTEND;TZID=America/Phoenix:20180728T160000
DTSTAMP:20260425T174327
CREATED:20180517T041349Z
LAST-MODIFIED:20180517T041349Z
UID:6464-1532772000-1532793600@www.sonoitavineyards.com
SUMMARY:2018 HarvestFest
DESCRIPTION:Annual celebration of the harvest!  No reservations required. \n$25 General Admission includes: \n\nWine tasting with souvenir glass\nSouvenir giveaway to the first 100 people\nWine & food pairings\nWinery tours with the winemaker at 11am & 2:45pm\nVineyard tours by wagon throughout the day\nGrape stomping\, starting at 1:00pm (must sign up when you arrive).\n\n$85 VIP package (limited to 60 tickets) includes: \n\nEverything General Admission gets plus:\nPrivate\, climate-controlled room and balcony\nVIP restroom\nPrivate bar\nSpecial VIP souvenir giveaway\nAfter hours party from 4-6pm\nAfter hours winery and vineyard tour\nVIP parking\nLunch voucher (Lunch may be purchased on-site from two local restaurants\, The Steak Out and Wood Fire Pizza\, as well as wine-by-the-glass).\n\nThis is the second of three festivals at Sonoita Vineyards for 2018.   Following HarvestFest\, the 17th Annual St. Martin’s Sonoita AVA New Release Festival is in November (this includes all the Sonoita AVA wineries).  The 41st Annual Blessing of Sonoita Vineyards is tentatively scheduled for April\, 2019. \nThe Winery/Tasting Room is open daily from 10am-4pm (except major holidays).  Private tours\, tastings\, luncheons or special events in our Vintage Room may be arranged.
URL:https://www.sonoitavineyards.com/event/2018-harvestfest/
LOCATION:AZ
CATEGORIES:Festival
ATTACH;FMTTYPE=image/jpeg:https://www.sonoitavineyards.com/wp-content/uploads/2018/05/Harvestfest_2018_Tickets-1.jpg
END:VEVENT
END:VCALENDAR