BEGIN:VCALENDAR
VERSION:2.0
PRODID:-//Sonoita Vineyards - ECPv6.15.20//NONSGML v1.0//EN
CALSCALE:GREGORIAN
METHOD:PUBLISH
X-ORIGINAL-URL:https://www.sonoitavineyards.com
X-WR-CALDESC:Events for Sonoita Vineyards
REFRESH-INTERVAL;VALUE=DURATION:PT1H
X-Robots-Tag:noindex
X-PUBLISHED-TTL:PT1H
BEGIN:VTIMEZONE
TZID:America/Phoenix
BEGIN:STANDARD
TZOFFSETFROM:-0700
TZOFFSETTO:-0700
TZNAME:MST
DTSTART:20180101T000000
END:STANDARD
END:VTIMEZONE
BEGIN:VEVENT
DTSTART;TZID=America/Phoenix:20191109T100000
DTEND;TZID=America/Phoenix:20191109T170000
DTSTAMP:20260424T170719
CREATED:20190904T154640Z
LAST-MODIFIED:20190904T154640Z
UID:8039-1573293600-1573318800@www.sonoitavineyards.com
SUMMARY:St. Martin's New Release Festival 2019
DESCRIPTION:Join us and twelve featured wineries and one distillery for the Blessing of the Vintage and New Releases Festival!\nGet Tickets Here\n$25 (online & at the door) includes: \n\nSouvenir glass\n6 tasting tickets\nDiscussions with the winemakers or staff\nBarrel tasting with Sonoita Vineyards Wine\nVineyard Tours\nThe Blessing of The Vintage at noon\nGet 6 more tickets for $10 ($35 total)\n\nMany Vendors will be available on site for Holiday Shopping! \nLunches from The Steak Out and Las Vigas will be available on site. \nLive music from Corey Spector\, Neaman Lyles and The Grasslands Band \nFeaturing: \n\nRune\nElgin Distillery\nVillage of Elgin Winery\nLightning Ridge Cellars\nKief-Joshua Vineyards\nHanna’s Hill Vineyard\nDos Cabezas WineWorks\nCharron Vineyards\nArizona Hops & Vines\nDeep Sky Vineyards\nWilhelm Family Vineyards\nCallaghan Vineyards\nRancho Rossa Vineyards\n\n 
URL:https://www.sonoitavineyards.com/event/st-martins-new-release-festival-2019/
LOCATION:AZ
CATEGORIES:Festival
END:VEVENT
END:VCALENDAR