BEGIN:VCALENDAR
VERSION:2.0
PRODID:-//Sonoita Vineyards - ECPv6.15.20//NONSGML v1.0//EN
CALSCALE:GREGORIAN
METHOD:PUBLISH
X-ORIGINAL-URL:https://www.sonoitavineyards.com
X-WR-CALDESC:Events for Sonoita Vineyards
REFRESH-INTERVAL;VALUE=DURATION:PT1H
X-Robots-Tag:noindex
X-PUBLISHED-TTL:PT1H
BEGIN:VTIMEZONE
TZID:America/Phoenix
BEGIN:STANDARD
TZOFFSETFROM:-0700
TZOFFSETTO:-0700
TZNAME:MST
DTSTART:20190101T000000
END:STANDARD
END:VTIMEZONE
BEGIN:VEVENT
DTSTART;TZID=America/Phoenix:20200725T100000
DTEND;TZID=America/Phoenix:20200725T160000
DTSTAMP:20260424T044554
CREATED:20200525T213453Z
LAST-MODIFIED:20200525T213453Z
UID:8201-1595671200-1595692800@www.sonoitavineyards.com
SUMMARY:HarvestFest 2020
DESCRIPTION:Annual celebration of the harvest! \nTHE EVENT HAS CHANGED TO A PRIVATE PARTY FOR THE VIP’S ON JULY 25TH.\nWE ARE RESCHEDULING ANOTHER DATE OF AUGUST 1ST FOR A GENERAL ADMISSION EVENT.\nONLY VIP’S WILL HAVE ACCESS TO THE WINERY. \n$90 VIP package (limited to 60 tickets) includes:\n\n\n8 wine tastings\n4 added wineries: Village of Elgin Winery\, Kief-Joshua Vineyards\, Hannah’s Hill Vineyards and Lightning Ridge Cellars\nWinery tours at 12pm\nVineyard tours by tractor wagon\nGrape stomping\, starting at 1:00pm\n21 and older only\nPrivate\, climate-controlled room and balcony\nVIP restroom\nPrivate bar\nSpecial VIP gift\nAfter hours party from 4-6pm\nAfter hours winery and vineyard tour\nVIP parking\nLunch voucher\n\n\nNo refunds are possible for VIP tickets. \nLAS VIGAS WILL BE HERE.\nLive Music All Day provided by Corey Spector and Joe Duvernay. \n20th Annual Sonoita AVA New Release Festival is Saturday\, November 14th\, 2020.
URL:https://www.sonoitavineyards.com/event/harvestfest-2020/
LOCATION:AZ
CATEGORIES:Festival
ATTACH;FMTTYPE=image/jpeg:https://www.sonoitavineyards.com/wp-content/uploads/2020/05/HarvestFest-2020-Featured.jpg
END:VEVENT
END:VCALENDAR