BEGIN:VCALENDAR
VERSION:2.0
PRODID:-//Sonoita Vineyards - ECPv6.15.20//NONSGML v1.0//EN
CALSCALE:GREGORIAN
METHOD:PUBLISH
X-ORIGINAL-URL:https://www.sonoitavineyards.com
X-WR-CALDESC:Events for Sonoita Vineyards
REFRESH-INTERVAL;VALUE=DURATION:PT1H
X-Robots-Tag:noindex
X-PUBLISHED-TTL:PT1H
BEGIN:VTIMEZONE
TZID:America/Phoenix
BEGIN:STANDARD
TZOFFSETFROM:-0700
TZOFFSETTO:-0700
TZNAME:MST
DTSTART:20210101T000000
END:STANDARD
END:VTIMEZONE
BEGIN:VEVENT
DTSTART;TZID=America/Phoenix:20220205T183000
DTEND;TZID=America/Phoenix:20220205T203000
DTSTAMP:20260422T230254
CREATED:20220115T232820Z
LAST-MODIFIED:20220115T232820Z
UID:9474-1644085800-1644093000@www.sonoitavineyards.com
SUMMARY:Stargazing Event February 5th
DESCRIPTION:Come hang with Team Sonoita Vineyards and Tucson Stargazing Adventures!!! \nStargazing from 6:30-8:30pm. \nTickets for this event 6:30-8:30pm $15/person includes a glass of mulled wine and the stargazing. \nCall today 520-455-5893 or buy tickets below to not get left out \n\n 
URL:https://www.sonoitavineyards.com/event/stargazing-event-february-5th/
LOCATION:AZ
END:VEVENT
BEGIN:VEVENT
DTSTART;TZID=America/Phoenix:20220213T100000
DTEND;TZID=America/Phoenix:20220213T160000
DTSTAMP:20260422T230254
CREATED:20220115T204048Z
LAST-MODIFIED:20220115T204048Z
UID:9467-1644746400-1644768000@www.sonoitavineyards.com
SUMMARY:Valentine's Weekend 2022
DESCRIPTION:Valentine’s Weekend 2022\nCome and enjoy a beautiful day with team Sonoita Vineyards\non\nFebruary 12th or February 13th\nwith chocolate and wine pairings for 2 people\n10am-4pm\n$55/couple\n 
URL:https://www.sonoitavineyards.com/event/valentines-weekend-2022/
LOCATION:AZ
END:VEVENT
END:VCALENDAR