BEGIN:VCALENDAR
VERSION:2.0
PRODID:-//Sonoita Vineyards - ECPv6.15.20//NONSGML v1.0//EN
CALSCALE:GREGORIAN
METHOD:PUBLISH
X-ORIGINAL-URL:https://www.sonoitavineyards.com
X-WR-CALDESC:Events for Sonoita Vineyards
REFRESH-INTERVAL;VALUE=DURATION:PT1H
X-Robots-Tag:noindex
X-PUBLISHED-TTL:PT1H
BEGIN:VTIMEZONE
TZID:America/Phoenix
BEGIN:STANDARD
TZOFFSETFROM:-0700
TZOFFSETTO:-0700
TZNAME:MST
DTSTART:20210101T000000
END:STANDARD
END:VTIMEZONE
BEGIN:VEVENT
DTSTART;TZID=America/Phoenix:20220528T200000
DTEND;TZID=America/Phoenix:20220528T220000
DTSTAMP:20260422T183827
CREATED:20220401T192730Z
LAST-MODIFIED:20220401T192730Z
UID:9656-1653768000-1653775200@www.sonoitavineyards.com
SUMMARY:Stargazing May 28th 2022
DESCRIPTION:So excited for our second time Stargazing with\, Jim\, from Tucson Stargazing Adventures. \nPlease join Team Sonoita Vineyards and Jim as we gaze across our beautiful night sky in Elgin\, AZ. \nMay 28th\, 2022 \n8-10pm \n$15/person includes all the stargazing you could want and 1 glass of wine or specialty drink.
URL:https://www.sonoitavineyards.com/event/stargazing-may-28th-2022/
LOCATION:AZ
CATEGORIES:Festival,Just For Fun
END:VEVENT
END:VCALENDAR