BEGIN:VCALENDAR
VERSION:2.0
PRODID:-//Sonoita Vineyards - ECPv6.15.20//NONSGML v1.0//EN
CALSCALE:GREGORIAN
METHOD:PUBLISH
X-ORIGINAL-URL:https://www.sonoitavineyards.com
X-WR-CALDESC:Events for Sonoita Vineyards
REFRESH-INTERVAL;VALUE=DURATION:PT1H
X-Robots-Tag:noindex
X-PUBLISHED-TTL:PT1H
BEGIN:VTIMEZONE
TZID:America/Phoenix
BEGIN:STANDARD
TZOFFSETFROM:-0700
TZOFFSETTO:-0700
TZNAME:MST
DTSTART:20210101T000000
END:STANDARD
END:VTIMEZONE
BEGIN:VEVENT
DTSTART;TZID=America/Phoenix:20220813T080000
DTEND;TZID=America/Phoenix:20220814T100000
DTSTAMP:20260422T134601
CREATED:20220713T201251Z
LAST-MODIFIED:20220713T201251Z
UID:10003-1660377600-1660471200@www.sonoitavineyards.com
SUMMARY:Bad Decisions Camp Out at Sonoita Vineyards
DESCRIPTION:  \n-Bad Decisions Camp Out at Sonoita Vineyards \nSaturday August 13th-Sunday August 14th\n$75.00/person camper \nIncludes:\n– Free shuttle service\, by Arizona Winery Tours\, for campers only. 11am-6pm on Saturday. Campers are required to use this free shuttle on Saturday to travel to and from AZ Hops and Vines during Bad Decisions. Once set up at Sonoita Vineyards if you drive your vehicle off the property this will void the camping agreement and you will be asked to leave our property. NO REFUNDS. \n-After Party Saturday evening from 6pm-9pm here at Sonoita Vineyards for Campers ONLY. Live Music by The Band Wanted \n-Pancake Breakfast on Sunday from 8:30am-10am for campers \nMust sign and return the camping agreement by email to Sonoita Vineyards (winery@sonoitavineyards.com) \nWe are so excited for you to stay with us. No Harvest Hosts camping will be allowed on Saturday August 13th please purchase these tickets. \nPlease click the Book Now Button in the bottom left hand corner.
URL:https://www.sonoitavineyards.com/event/bad-decisions-camp-out-at-sonoita-vineyards/
LOCATION:AZ
END:VEVENT
END:VCALENDAR