BEGIN:VCALENDAR
VERSION:2.0
PRODID:-//Sonoita Vineyards - ECPv6.15.20//NONSGML v1.0//EN
CALSCALE:GREGORIAN
METHOD:PUBLISH
X-WR-CALNAME:Sonoita Vineyards
X-ORIGINAL-URL:https://www.sonoitavineyards.com
X-WR-CALDESC:Events for Sonoita Vineyards
REFRESH-INTERVAL;VALUE=DURATION:PT1H
X-Robots-Tag:noindex
X-PUBLISHED-TTL:PT1H
BEGIN:VTIMEZONE
TZID:America/Phoenix
BEGIN:STANDARD
TZOFFSETFROM:-0700
TZOFFSETTO:-0700
TZNAME:MST
DTSTART:20210101T000000
END:STANDARD
END:VTIMEZONE
BEGIN:VEVENT
DTSTART;TZID=America/Phoenix:20220902T100000
DTEND;TZID=America/Phoenix:20220904T100000
DTSTAMP:20260422T121441
CREATED:20220818T195954Z
LAST-MODIFIED:20220818T195954Z
UID:10021-1662112800-1662285600@www.sonoitavineyards.com
SUMMARY:Labor Day Weekend Camping
DESCRIPTION:Labor Day Weekend Camp Out \nFriday Night\, Saturday Night\, Sunday Morning \n$50/Camping Spot (max 4 people/spot) \n$15/person for AFTER HOURS PARTY SATURDAY ONLY for non campers \nIncludes: \n– Camping Friday Night and Saturday Night \n-After Hours Party Saturday evening from 6pm-10pm here at Sonoita Vineyards. \nLive Music by The Band Wanted \n-Pancake Breakfast on Sunday from 8:30am-10am \nClick on the link in the bottom right hand corner “Book Now” to purchase your tickets and please sign your waiver \nWe are so excited for you to stay with us. No Harvest Hosts camping will be allowed on Friday September 2nd and September 3rd. \nHarvest Host will resume September 4th
URL:https://www.sonoitavineyards.com/event/labor-day-weekend-camping/
LOCATION:AZ
CATEGORIES:Festival,Just For Fun
END:VEVENT
BEGIN:VEVENT
DTSTART;TZID=America/Phoenix:20220916T190000
DTEND;TZID=America/Phoenix:20220916T203000
DTSTAMP:20260422T121441
CREATED:20220827T210150Z
LAST-MODIFIED:20220827T210150Z
UID:10027-1663354800-1663360200@www.sonoitavineyards.com
SUMMARY:The Winery Comedy Tour at Sonoita Vineyards
DESCRIPTION:This #nationwide #comedytour has already hit 3000 venues across the U.S. #Standupcomedians from New York to L.A. are currently on the road\, sampling the local @fare\, #drinks and providing the finest and funniest in #comedy #entertainment.\n\nThis show will feature #comedians whose credits include top festivals\, TV and major club appearances and sends them out on the road to tell #jokes throughout the country.\n\nTreat yourself with #hysterical #laughter when this tour comes to your town.\n\nWhat could be better than wine and comedy!!\n\nWine-NOT……\n\nGet your tickets NOW\n\nthe WINERY COMEDY TOUR at SONOITA Tickets\, Multiple Dates | Eventbrite
URL:https://www.sonoitavineyards.com/event/the-winery-comedy-tour-at-sonoita-vineyards/
LOCATION:AZ
CATEGORIES:Festival,Just For Fun
END:VEVENT
END:VCALENDAR