BEGIN:VCALENDAR
VERSION:2.0
PRODID:-//Sonoita Vineyards - ECPv6.15.20//NONSGML v1.0//EN
CALSCALE:GREGORIAN
METHOD:PUBLISH
X-ORIGINAL-URL:https://www.sonoitavineyards.com
X-WR-CALDESC:Events for Sonoita Vineyards
REFRESH-INTERVAL;VALUE=DURATION:PT1H
X-Robots-Tag:noindex
X-PUBLISHED-TTL:PT1H
BEGIN:VTIMEZONE
TZID:America/Phoenix
BEGIN:STANDARD
TZOFFSETFROM:-0700
TZOFFSETTO:-0700
TZNAME:MST
DTSTART:20210101T000000
END:STANDARD
END:VTIMEZONE
BEGIN:VEVENT
DTSTART;TZID=America/Phoenix:20221015T130000
DTEND;TZID=America/Phoenix:20221015T153000
DTSTAMP:20260422T103835
CREATED:20220915T220625Z
LAST-MODIFIED:20220915T220625Z
UID:10040-1665838800-1665847800@www.sonoitavineyards.com
SUMMARY:Food & Wine Paired Dinner Murder Mystery
DESCRIPTION:  \nThe Fault Line Players will perform ‘The\nSock Hop Homicides’\, a ‘Happy Days’\nspoof\, set in the 1950s \nSATURDAY\, OCTOBER 15 \n1:00 pm – 3 :30 pm \nEthel Berger Center \n2950 E Tacoma Street \n$ 80 per person \nThis Food and Wine pairing will showcase food from the Book Nook\nCafé located in the Sierra Vista Library and wine from Sonoita\nVineyards. This four-course meal consist of: First Course: Autumn\nSalad paired with Baja Booz\, Second Course: Roasted butternut\nsquash soup paired with Arizona Sunset\, Third Course: Meatloaf\,\npotato salad and sweet pea and pearl onions paired with Petite\nSirah\, Fourth Course: Brownie paired with Desert Nectar \nRegister at WebTrac.SierraVistaAZ.gov (search “food”) or register\nover the phone or in person at the EBC or OYCC.
URL:https://www.sonoitavineyards.com/event/food-wine-paired-dinner-murder-mystery/
LOCATION:AZ
CATEGORIES:Away Event,Just For Fun
END:VEVENT
BEGIN:VEVENT
DTSTART;TZID=America/Phoenix:20221029T100000
DTEND;TZID=America/Phoenix:20221031T160000
DTSTAMP:20260422T103835
CREATED:20220907T215849Z
LAST-MODIFIED:20220907T215849Z
UID:10035-1667037600-1667232000@www.sonoitavineyards.com
SUMMARY:Hallo-Wine at Sonoita Vineyards
DESCRIPTION:Hallo-Wine at Sonoita Vineyards \n$25/person gets you Halloween Candy and Wine \nAdult Style Halloween \nCome one come all \nNo reservations are needed \nNo Tickets Sold \nWhen its gone its gone \nCome in Costume and \nGet 15% off 2 or more bottles \nLive Music by Liz and Pete
URL:https://www.sonoitavineyards.com/event/hallo-wine-at-sonoita-vineyards/
LOCATION:AZ
CATEGORIES:Just For Fun
END:VEVENT
END:VCALENDAR