BEGIN:VCALENDAR
VERSION:2.0
PRODID:-//Sonoita Vineyards - ECPv6.15.20//NONSGML v1.0//EN
CALSCALE:GREGORIAN
METHOD:PUBLISH
X-WR-CALNAME:Sonoita Vineyards
X-ORIGINAL-URL:https://www.sonoitavineyards.com
X-WR-CALDESC:Events for Sonoita Vineyards
REFRESH-INTERVAL;VALUE=DURATION:PT1H
X-Robots-Tag:noindex
X-PUBLISHED-TTL:PT1H
BEGIN:VTIMEZONE
TZID:America/Phoenix
BEGIN:STANDARD
TZOFFSETFROM:-0700
TZOFFSETTO:-0700
TZNAME:MST
DTSTART:20210101T000000
END:STANDARD
END:VTIMEZONE
BEGIN:VEVENT
DTSTART;TZID=America/Phoenix:20221105T190000
DTEND;TZID=America/Phoenix:20221105T203000
DTSTAMP:20260422T091302
CREATED:20220916T204718Z
LAST-MODIFIED:20220916T204718Z
UID:10042-1667674800-1667680200@www.sonoitavineyards.com
SUMMARY:Winery Comedy Tour at Sonoita Vineyards
DESCRIPTION:This #nationwide #comedytour has already hit 3000 venues across the U.S. #Standupcomedians from New York to L.A. are currently on the road\, sampling the local @fare\, #drinks and providing the finest and funniest in #comedy #entertainment.\n\nThis show will feature #comedians whose credits include top festivals\, TV and major club appearances and sends them out on the road to tell #jokes throughout the country.\n\nTreat yourself with #hysterical #laughter when this tour comes to your town.\n\nWhat could be better than wine and comedy!!\n\nWine-NOT……\n\nGet your tickets NOW\n\nhttps://www.eventbrite.com/e/the-winery-comedy-tour-at-sonoita-tickets-380702329917
URL:https://www.sonoitavineyards.com/event/winery-comedy-tour-at-sonoita-vineyards/
LOCATION:AZ
CATEGORIES:Just For Fun
END:VEVENT
BEGIN:VEVENT
DTSTART;TZID=America/Phoenix:20221119T150000
DTEND;TZID=America/Phoenix:20221119T190000
DTSTAMP:20260422T091302
CREATED:20221026T222148Z
LAST-MODIFIED:20221026T222148Z
UID:10059-1668870000-1668884400@www.sonoitavineyards.com
SUMMARY:Special Event with The Band Wanted
DESCRIPTION:  \nYou asked and everyone listened!\nThe Band Wanted is BACK….along with a TON of other FUN!\n\nJoin us for live music performed by The Band Wanted from 3-5pm.\nThen you get to be the star of the show for Karaoke from 5pm-7pm! Joshua Carpenter of The Band Wanted will be the sound engineer to help you sound like a real pro!\n\nJust for fun after the show\, camp out with us\, enjoy the night skies by a campfire. In the morning join us for Coffee Hour\, bring a snack to share and enjoy great conversations.\n\nGourmet local Coffee will be available!\nContact Sonoita Vineyards for more information at (520) 455-5893
URL:https://www.sonoitavineyards.com/event/special-event-with-the-band-wanted/
LOCATION:AZ
END:VEVENT
END:VCALENDAR