BEGIN:VCALENDAR
VERSION:2.0
PRODID:-//Sonoita Vineyards - ECPv6.15.20//NONSGML v1.0//EN
CALSCALE:GREGORIAN
METHOD:PUBLISH
X-WR-CALNAME:Sonoita Vineyards
X-ORIGINAL-URL:https://www.sonoitavineyards.com
X-WR-CALDESC:Events for Sonoita Vineyards
REFRESH-INTERVAL;VALUE=DURATION:PT1H
X-Robots-Tag:noindex
X-PUBLISHED-TTL:PT1H
BEGIN:VTIMEZONE
TZID:America/Phoenix
BEGIN:STANDARD
TZOFFSETFROM:-0700
TZOFFSETTO:-0700
TZNAME:MST
DTSTART:20220101T000000
END:STANDARD
END:VTIMEZONE
BEGIN:VEVENT
DTSTART;TZID=America/Phoenix:20230610T140000
DTEND;TZID=America/Phoenix:20230610T190000
DTSTAMP:20260421T222321
CREATED:20230608T173741Z
LAST-MODIFIED:20230608T174126Z
UID:10496-1686405600-1686423600@www.sonoitavineyards.com
SUMMARY:Arizona Rosé Day
DESCRIPTION:Come celebrate Rosé Day in beautiful Arizona Wine Country. Each winery will be doing something special to showcase their amazing Rosé! Check out YOUR favorite winery and try a new one! Celebrate Rosé Day on June 10th at Sonoita\, Arizona’s renowned wineries. With a perfect climate\, soil\, and altitude\, Sonoita produces top-quality rosé wines with unique flavors and aromas. Join us for award-winning wines\, stunning views\, and delectable food pairings while discovering why Sonoita rosé wines are favored by wine connoisseurs. Don’t miss out – we can’t wait to see you there! \nLive Music By John Hughes from 1-4pm ✨️\nBring a picnic lunch with you spend the afternoon with us ?\nAlexa and Lori will be serving all your favorites ? ?
URL:https://www.sonoitavineyards.com/event/arizona-rose-day/
LOCATION:AZ
ATTACH;FMTTYPE=image/jpeg:https://www.sonoitavineyards.com/wp-content/uploads/2023/06/352220885_218903624328505_7895070918837526535_n.jpg
END:VEVENT
END:VCALENDAR