BEGIN:VCALENDAR
VERSION:2.0
PRODID:-//Sonoita Vineyards - ECPv6.15.20//NONSGML v1.0//EN
CALSCALE:GREGORIAN
METHOD:PUBLISH
X-WR-CALNAME:Sonoita Vineyards
X-ORIGINAL-URL:https://www.sonoitavineyards.com
X-WR-CALDESC:Events for Sonoita Vineyards
REFRESH-INTERVAL;VALUE=DURATION:PT1H
X-Robots-Tag:noindex
X-PUBLISHED-TTL:PT1H
BEGIN:VTIMEZONE
TZID:America/Phoenix
BEGIN:STANDARD
TZOFFSETFROM:-0700
TZOFFSETTO:-0700
TZNAME:MST
DTSTART:20220101T000000
END:STANDARD
END:VTIMEZONE
BEGIN:VEVENT
DTSTART;TZID=America/Phoenix:20230902T130000
DTEND;TZID=America/Phoenix:20230902T160000
DTSTAMP:20260421T175716
CREATED:20230809T215844Z
LAST-MODIFIED:20230809T215846Z
UID:10712-1693659600-1693670400@www.sonoitavineyards.com
SUMMARY:Live Music with Jeff Driscoll
DESCRIPTION:Live Music with Jeff Driscoll \nSeptember 2nd 1-4pm \nBring a picnic lunch and let us serve you the best Wine in Southern AZ.
URL:https://www.sonoitavineyards.com/event/live-music-with-jeff-driscoll-2/
LOCATION:AZ
CATEGORIES:Just For Fun
END:VEVENT
BEGIN:VEVENT
DTSTART;TZID=America/Phoenix:20230916T130000
DTEND;TZID=America/Phoenix:20230916T160000
DTSTAMP:20260421T175716
CREATED:20230817T222726Z
LAST-MODIFIED:20230817T222726Z
UID:10733-1694869200-1694880000@www.sonoitavineyards.com
SUMMARY:Live Music with Jeff Driscoll
DESCRIPTION:Live Music September 16th \n1-4pm \nJeff Driscoll
URL:https://www.sonoitavineyards.com/event/live-music-with-jeff-driscoll-3/
LOCATION:Sonoita Vineyards\, 290 Elgin Canelo RD\, Elgin\, AZ\, 85611-8001\, United States
CATEGORIES:Just For Fun
END:VEVENT
BEGIN:VEVENT
DTSTART;TZID=America/Phoenix:20230916T190000
DTEND;TZID=America/Phoenix:20230916T203000
DTSTAMP:20260421T175716
CREATED:20230809T213546Z
LAST-MODIFIED:20230809T213546Z
UID:10709-1694890800-1694896200@www.sonoitavineyards.com
SUMMARY:Comedy Show at Sonoita Vineyards
DESCRIPTION:Currently in its tenth year\, this nationwide comedy tour has already hit 4000 venues across the country. The drinks are pretty good too!\nOur comedy nights are filled with hilarious jokes from some of the best comedians in the industry. Come and enjoy a cold brew or wine while you laugh your worries away. This event will feature some of the funniest comedians in the country\, who will have you in stitches with their hilarious jokes and witty humor so don’t miss out on this unforgettable experience so join us for an unforgettable night of comedy\, wine\, and good times!\n\nSeptember 16th\, 2023\nStarts at 7pm\n\nTickets\nthe WINERY COMEDY TOUR at SONOITA Tickets\, Multiple Dates | Eventbrite
URL:https://www.sonoitavineyards.com/event/comedy-show-at-sonoita-vineyards/
LOCATION:AZ
CATEGORIES:Just For Fun
END:VEVENT
BEGIN:VEVENT
DTSTART;TZID=America/Phoenix:20230923T130000
DTEND;TZID=America/Phoenix:20230923T160000
DTSTAMP:20260421T175716
CREATED:20230817T223007Z
LAST-MODIFIED:20230817T223011Z
UID:10735-1695474000-1695484800@www.sonoitavineyards.com
SUMMARY:Live Music with THE UNIT
DESCRIPTION:Come one come all for the debut here at Sonoita Vineyards of The Unit. Joe Duvernay has played for you all before but come and listen to this amazing band 🙂 Live September 23rd from 1-4pm. \n 
URL:https://www.sonoitavineyards.com/event/live-music-with-the-unit/
LOCATION:Sonoita Vineyards\, 290 Elgin Canelo RD\, Elgin\, AZ\, 85611-8001\, United States
CATEGORIES:Just For Fun
END:VEVENT
BEGIN:VEVENT
DTSTART;TZID=America/Phoenix:20230930T130000
DTEND;TZID=America/Phoenix:20230930T160000
DTSTAMP:20260421T175716
CREATED:20230817T223231Z
LAST-MODIFIED:20230817T223233Z
UID:10737-1696078800-1696089600@www.sonoitavineyards.com
SUMMARY:Live Music with Nicki Park
DESCRIPTION:Come and hear the beautiful music of Nicki Park. Live from 1-4pm September 30. She has such an amazing voice and have a few glasses while you are here. \nCheers
URL:https://www.sonoitavineyards.com/event/live-music-with-nicki-park/
LOCATION:Sonoita Vineyards\, 290 Elgin Canelo RD\, Elgin\, AZ\, 85611-8001\, United States
CATEGORIES:Just For Fun
END:VEVENT
END:VCALENDAR