BEGIN:VCALENDAR
VERSION:2.0
PRODID:-//Sonoita Vineyards - ECPv6.15.20//NONSGML v1.0//EN
CALSCALE:GREGORIAN
METHOD:PUBLISH
X-WR-CALNAME:Sonoita Vineyards
X-ORIGINAL-URL:https://www.sonoitavineyards.com
X-WR-CALDESC:Events for Sonoita Vineyards
REFRESH-INTERVAL;VALUE=DURATION:PT1H
X-Robots-Tag:noindex
X-PUBLISHED-TTL:PT1H
BEGIN:VTIMEZONE
TZID:America/Phoenix
BEGIN:STANDARD
TZOFFSETFROM:-0700
TZOFFSETTO:-0700
TZNAME:MST
DTSTART:20230101T000000
END:STANDARD
END:VTIMEZONE
BEGIN:VEVENT
DTSTART;TZID=America/Phoenix:20240601T130000
DTEND;TZID=America/Phoenix:20240601T160000
DTSTAMP:20260423T122910
CREATED:20240516T222040Z
LAST-MODIFIED:20240516T222040Z
UID:10964-1717246800-1717257600@www.sonoitavineyards.com
SUMMARY:Live Music by Jeff and Jill
DESCRIPTION:Don’t miss the duo of Jeff and Jill from 1-4pm this Saturday. Did you know that Jill is a published children’s author. Come see Tickle Time and get your copy signed today.
URL:https://www.sonoitavineyards.com/event/live-music-by-jeff-and-jill-2/
LOCATION:Sonoita Vineyards\, 290 Elgin Canelo RD\, Elgin\, AZ\, 85611-8001\, United States
CATEGORIES:Just For Fun
END:VEVENT
BEGIN:VEVENT
DTSTART;TZID=America/Phoenix:20240615T190000
DTEND;TZID=America/Phoenix:20240615T203000
DTSTAMP:20260423T122910
CREATED:20240516T223247Z
LAST-MODIFIED:20240516T223247Z
UID:10970-1718478000-1718483400@www.sonoitavineyards.com
SUMMARY:Comedy Show
DESCRIPTION:Rick Storer is one of the most entertaining up-and-coming comedians on California’s central coast. His off-the-cuff riffing\, engaging crowd work\, and polished material combine to make sure no two Rick Storer shows are the same. Described as “a pot body with cocaine energy\,” Rick has traveled the country bringing his hilarious brand of comedy to clubs and breweries all over America\, winning comedy contests such as Pick Your Poison Season 3\, Roast Battle League LA/Bay Area\, and the Modesto Comedy Competition. He can be seen on Man Up with Theo Von\, Bad Trip with Eric Andre\, and a couple of gameshows he lost. \nGet your tickets now before they are gone \nBrewery & Winery Comedy Tour at Sonoita Winery – Herron Entertainment
URL:https://www.sonoitavineyards.com/event/comedy-show/
LOCATION:Sonoita Vineyards\, 290 Elgin Canelo RD\, Elgin\, AZ\, 85611-8001\, United States
CATEGORIES:Comedy,Just For Fun
ORGANIZER;CN="Herron Entertainment":MAILTO:info@herronentertainment.com
END:VEVENT
BEGIN:VEVENT
DTSTART;TZID=America/Phoenix:20240622T130000
DTEND;TZID=America/Phoenix:20240622T160000
DTSTAMP:20260423T122910
CREATED:20240516T222532Z
LAST-MODIFIED:20240516T222532Z
UID:10968-1719061200-1719072000@www.sonoitavineyards.com
SUMMARY:Live Music by Jeff and Jill
DESCRIPTION:Don’t miss the duo of Jeff and Jill from 1-4pm this Saturday. Did you know that Jill is a published children’s author? Come check out Tickle Time and get your copy signed today.
URL:https://www.sonoitavineyards.com/event/live-music-by-jeff-and-jill-4/
LOCATION:Sonoita Vineyards\, 290 Elgin Canelo RD\, Elgin\, AZ\, 85611-8001\, United States
CATEGORIES:Just For Fun,Live Music
END:VEVENT
BEGIN:VEVENT
DTSTART;TZID=America/Phoenix:20240629T130000
DTEND;TZID=America/Phoenix:20240629T160000
DTSTAMP:20260423T122910
CREATED:20240516T223551Z
LAST-MODIFIED:20240516T223551Z
UID:10974-1719666000-1719676800@www.sonoitavineyards.com
SUMMARY:Live Music by Jeff and Jill
DESCRIPTION:Don’t miss the duo of Jeff and Jill from 1-4pm this Saturday. Did you know that Jill is a published children’s author? Come check out Tickle Time and get your copy signed today.
URL:https://www.sonoitavineyards.com/event/live-music-by-jeff-and-jill-5/
LOCATION:Sonoita Vineyards\, 290 Elgin Canelo RD\, Elgin\, AZ\, 85611-8001\, United States
CATEGORIES:Just For Fun,Live Music
END:VEVENT
END:VCALENDAR