BEGIN:VCALENDAR
VERSION:2.0
PRODID:-//Sonoita Vineyards - ECPv6.15.20//NONSGML v1.0//EN
CALSCALE:GREGORIAN
METHOD:PUBLISH
X-WR-CALNAME:Sonoita Vineyards
X-ORIGINAL-URL:https://www.sonoitavineyards.com
X-WR-CALDESC:Events for Sonoita Vineyards
REFRESH-INTERVAL;VALUE=DURATION:PT1H
X-Robots-Tag:noindex
X-PUBLISHED-TTL:PT1H
BEGIN:VTIMEZONE
TZID:America/Phoenix
BEGIN:STANDARD
TZOFFSETFROM:-0700
TZOFFSETTO:-0700
TZNAME:MST
DTSTART:20230101T000000
END:STANDARD
END:VTIMEZONE
BEGIN:VEVENT
DTSTART;TZID=America/Phoenix:20241129T100000
DTEND;TZID=America/Phoenix:20241202T160000
DTSTAMP:20260423T045100
CREATED:20241121T225503Z
LAST-MODIFIED:20241121T225503Z
UID:11166-1732874400-1733155200@www.sonoitavineyards.com
SUMMARY:Support Small Business Weekend 11/29-12/2
DESCRIPTION:FREE EVENT!!!COME SUPPORT SMALL BUSINESS AND IMBIBE WHILE DOING IT!!!WHY STAND IN LONG LINES AT THE STORE GET A GLASS BRING A PICINIC AND ENJOY THE HOLIDAY WEEKEND!!!!BY THE GLASS SPECIALSSPECIAL CASE DISCOUNTS AND 1/2 CASE DISCOUNTS!!!DON’T MISS OUTFRIDAY LIZ AND PETE 1-4 PMSATURDAY JOE D. 1-4PM
URL:https://www.sonoitavineyards.com/event/support-small-business-weekend-11-29-12-2/
LOCATION:Sonoita Vineyards\, 290 Elgin Canelo RD\, Elgin\, AZ\, 85611-8001\, United States
CATEGORIES:Just For Fun,Live Music
END:VEVENT
BEGIN:VEVENT
DTSTART;TZID=America/Phoenix:20241129T130000
DTEND;TZID=America/Phoenix:20241129T160000
DTSTAMP:20260423T045100
CREATED:20240517T231116Z
LAST-MODIFIED:20240517T231116Z
UID:10989-1732885200-1732896000@www.sonoitavineyards.com
SUMMARY:Live Music by Liz and Pete
DESCRIPTION:Come and enjoy Liz and Pete. They are such a talented duet you will not be disappointed at all. Live today from 1-4pm! Don’t Miss Event. \nCheck them out Home | Liz & Pete (lizandpetemusic.com)
URL:https://www.sonoitavineyards.com/event/live-music-by-liz-and-pete-4/
LOCATION:Sonoita Vineyards\, 290 Elgin Canelo RD\, Elgin\, AZ\, 85611-8001\, United States
CATEGORIES:Just For Fun,Live Music
END:VEVENT
BEGIN:VEVENT
DTSTART;TZID=America/Phoenix:20241130T130000
DTEND;TZID=America/Phoenix:20241130T160000
DTSTAMP:20260423T045100
CREATED:20241121T222759Z
LAST-MODIFIED:20241121T222759Z
UID:11152-1732971600-1732982400@www.sonoitavineyards.com
SUMMARY:Live Music by Joe D.
DESCRIPTION:Come and listen to JOE D. he is an amazing artist he will be playing all your favorite songs from 1-4pm on Saturday November 30th.
URL:https://www.sonoitavineyards.com/event/live-music-by-joe-d-3/
LOCATION:Sonoita Vineyards\, 290 Elgin Canelo RD\, Elgin\, AZ\, 85611-8001\, United States
CATEGORIES:Live Music
END:VEVENT
END:VCALENDAR