BEGIN:VCALENDAR
VERSION:2.0
PRODID:-//Sonoita Vineyards - ECPv6.15.20//NONSGML v1.0//EN
CALSCALE:GREGORIAN
METHOD:PUBLISH
X-ORIGINAL-URL:https://www.sonoitavineyards.com
X-WR-CALDESC:Events for Sonoita Vineyards
REFRESH-INTERVAL;VALUE=DURATION:PT1H
X-Robots-Tag:noindex
X-PUBLISHED-TTL:PT1H
BEGIN:VTIMEZONE
TZID:America/Phoenix
BEGIN:STANDARD
TZOFFSETFROM:-0700
TZOFFSETTO:-0700
TZNAME:MST
DTSTART:20230101T000000
END:STANDARD
END:VTIMEZONE
BEGIN:VEVENT
DTSTART;TZID=America/Phoenix:20240127T130000
DTEND;TZID=America/Phoenix:20240127T160000
DTSTAMP:20260421T101856
CREATED:20231212T194848Z
LAST-MODIFIED:20240124T203458Z
UID:10791-1706360400-1706371200@www.sonoitavineyards.com
SUMMARY:A Mess with Jess
DESCRIPTION:Beginner level clay play. Come and sculpt an adorable clay gnome\, kids of 10 and up are welcome to join. A glass of wine will be included with every ticket or a non-alcoholic option will also be available.\nLimited space only 12 tickets will be sold.\n$35/person\nThis is the perfect thing to do while family are still in town. \nGo to www.sonoitavineyards.com\nClick Book Now\nClick on Mess with Jess\nClick the Green Date January 27th\nFollow the prompts
URL:https://www.sonoitavineyards.com/event/a-mess-with-jess/
LOCATION:Sonoita Vineyards\, 290 Elgin Canelo RD\, Elgin\, AZ\, 85611-8001\, United States
CATEGORIES:Just For Fun
END:VEVENT
END:VCALENDAR