BEGIN:VCALENDAR
VERSION:2.0
PRODID:-//Sonoita Vineyards - ECPv6.15.20//NONSGML v1.0//EN
CALSCALE:GREGORIAN
METHOD:PUBLISH
X-ORIGINAL-URL:https://www.sonoitavineyards.com
X-WR-CALDESC:Events for Sonoita Vineyards
REFRESH-INTERVAL;VALUE=DURATION:PT1H
X-Robots-Tag:noindex
X-PUBLISHED-TTL:PT1H
BEGIN:VTIMEZONE
TZID:America/Phoenix
BEGIN:STANDARD
TZOFFSETFROM:-0700
TZOFFSETTO:-0700
TZNAME:MST
DTSTART:20220101T000000
END:STANDARD
END:VTIMEZONE
BEGIN:VEVENT
DTSTART;TZID=America/Phoenix:20231007T140000
DTEND;TZID=America/Phoenix:20231007T160000
DTSTAMP:20260419T133837
CREATED:20230817T213050Z
LAST-MODIFIED:20230817T213153Z
UID:10730-1696687200-1696694400@www.sonoitavineyards.com
SUMMARY:Charcuterie Spooky Themed
DESCRIPTION:October 7th \nStarting at 2pm \nCome learn to make a fun Spooky Themed Charcuterie with Bride + Brie. \n$90/person gets you: \n2 glasses of wine \n1 wooden charcuterie board to take home \nCome and have fun with Lisa of Bride + Brie and Sonoita Vineyards \nLive Music from 1-4pm
URL:https://www.sonoitavineyards.com/event/charcuterie-spooky-themed/
LOCATION:Sonoita Vineyards\, 290 Elgin Canelo RD\, Elgin\, AZ\, 85611-8001\, United States
CATEGORIES:Just For Fun,Lunch at the Winery
END:VEVENT
END:VCALENDAR