BEGIN:VCALENDAR
VERSION:2.0
PRODID:-//Sonoita Vineyards - ECPv6.15.20//NONSGML v1.0//EN
CALSCALE:GREGORIAN
METHOD:PUBLISH
X-WR-CALNAME:Sonoita Vineyards
X-ORIGINAL-URL:https://www.sonoitavineyards.com
X-WR-CALDESC:Events for Sonoita Vineyards
REFRESH-INTERVAL;VALUE=DURATION:PT1H
X-Robots-Tag:noindex
X-PUBLISHED-TTL:PT1H
BEGIN:VTIMEZONE
TZID:America/Phoenix
BEGIN:STANDARD
TZOFFSETFROM:-0700
TZOFFSETTO:-0700
TZNAME:MST
DTSTART:20220101T000000
END:STANDARD
END:VTIMEZONE
BEGIN:VEVENT
DTSTART;TZID=America/Phoenix:20230923T130000
DTEND;TZID=America/Phoenix:20230923T160000
DTSTAMP:20260423T084530
CREATED:20230817T223007Z
LAST-MODIFIED:20230817T223011Z
UID:10735-1695474000-1695484800@www.sonoitavineyards.com
SUMMARY:Live Music with THE UNIT
DESCRIPTION:Come one come all for the debut here at Sonoita Vineyards of The Unit. Joe Duvernay has played for you all before but come and listen to this amazing band 🙂 Live September 23rd from 1-4pm. \n 
URL:https://www.sonoitavineyards.com/event/live-music-with-the-unit/
LOCATION:Sonoita Vineyards\, 290 Elgin Canelo RD\, Elgin\, AZ\, 85611-8001\, United States
CATEGORIES:Just For Fun
END:VEVENT
END:VCALENDAR